Workbook

Sheet 1.melléklet
A1: B E V É T E L E K
E2: Forintban
A3: Sor- szám | B3: Rovat azonosító | C3: Bevételi jogcím | D3: Eredeti előirányzat | E3: Módosított előirányzat
A4: 1 | B4: 2 | C4: 2 | D4: 3 | E4: 4
A5: 1. | B5: B11 | C5: Önkormányzat működési támogatásai (1.1.+…+.1.6.) | D5: =+D6+D7+D8+D9+D10+D11 -> 0 | E5: =+E6+E7+E8+E9+E10+E11 -> 0
A6: 1.1. | B6: B111 | C6: Helyi önkormányzatok működésének általános támogatása
A7: 1.2. | B7: B112 | C7: Önkormányzatok egyes köznevelési feladatainak támogatása
A8: 1.3. | B8: B113 | C8: Önkormányzatok szociális és gyermekjóléti, étkeztetési feladatainak támogatása
A9: 1.4. | B9: B114 | C9: Önkormányzatok kulturális feladatainak támogatása
A10: 1.5. | B10: B115 | C10: Működési célú kvi támogatások és kiegészítő támogatások
A11: 1.6. | B11: B116 | C11: Elszámolásból származó bevételek | E11: ='[1]1.2.sz.mell.'!D11+'[1]1.3.sz.mell.'!D11+'[1]1.4.sz.mell.'!D11 -> 0
A12: 2. | C12: Működési célú támogatások államháztartáson belülről (2.1.+…+.2.5.) | D12: =+D13+D14+D15+D16+D17 -> 40000000 | E12: =+E13+E14+E15+E16+E17 -> 40000000
A13: 2.1. | B13: B12 | C13: Elvonások és befizetések bevételei | E13: ='[1]1.2.sz.mell.'!D13+'[1]1.3.sz.mell.'!D13+'[1]1.4.sz.mell.'!D13 -> 0
A14: 2.2. | B14: B13 | C14: Működési célú garancia- és kezességvállalásból megtérülések | E14: ='[1]1.2.sz.mell.'!D14+'[1]1.3.sz.mell.'!D14+'[1]1.4.sz.mell.'!D14 -> 0
A15: 2.3. | B15: B14 | C15: Működési célú visszatérítendő támogatások, kölcsönök visszatérülése | E15: ='[1]1.2.sz.mell.'!D15+'[1]1.3.sz.mell.'!D15+'[1]1.4.sz.mell.'!D15 -> 0
A16: 2.4. | B16: B15 | C16: Működési célú visszatérítendő támogatások, kölcsönök igénybevétele | E16: ='[1]1.2.sz.mell.'!D16+'[1]1.3.sz.mell.'!D16+'[1]1.4.sz.mell.'!D16 -> 0
A17: 2.5. | B17: B16 | C17: Egyéb működési célú támogatások bevételei | D17: 40000000 | E17: 40000000
A18: 2.6. | B18: B16 | C18: 2.5.-ből EU-s támogatás
A19: 3. | B19: B2 | C19: Felhalmozási célú támogatások államháztartáson belülről (3.1.+…+3.5.) | D19: =+D20+D21+D22+D23+D24 -> 0 | E19: =+E20+E21+E22+E23+E24 -> 0
A20: 3.1. | B20: B21 | C20: Felhalmozási célú önkormányzati támogatások | E20: ='[1]1.2.sz.mell.'!D20+'[1]1.3.sz.mell.'!D20+'[1]1.4.sz.mell.'!D20 -> 0
A21: 3.2. | B21: B22 | C21: Felhalmozási célú garancia- és kezességvállalásból megtérülések | E21: ='[1]1.2.sz.mell.'!D21+'[1]1.3.sz.mell.'!D21+'[1]1.4.sz.mell.'!D21 -> 0
A22: 3.3. | B22: B23 | C22: Felhalmozási célú visszatérítendő támogatások, kölcsönök visszatérülése | E22: ='[1]1.2.sz.mell.'!D22+'[1]1.3.sz.mell.'!D22+'[1]1.4.sz.mell.'!D22 -> 0
A23: 3.4. | B23: B24 | C23: Felhalmozási célú visszatérítendő támogatások, kölcsönök igénybevétele | E23: ='[1]1.2.sz.mell.'!D23+'[1]1.3.sz.mell.'!D23+'[1]1.4.sz.mell.'!D23 -> 0
A24: 3.5. | B24: B25 | C24: Egyéb felhalmozási célú támogatások bevételei
A25: 3.6. | B25: B25 | C25: 3.5.-ből EU-s támogatás
A26: 4. | B26: B3 | C26: Közhatalmi bevételek (4.1.+4.2.+4.3.+4.4.) | D26: =SUM(D27:D33) -> 0 | E26: =SUM(E27:E33) -> 0
A27: 4.1 | B27: B34 | C27: Vagyoni tipusú adók
A28: 4.2 | B28: B31 | C28: Jövedelemadók
A29: 4.3 | B29: B351 | C29: Értékesítési és forgalmi adók
A30: 4.4 | B30: B352 | C30: Fogyasztási adók
A31: 4.5 | B31: B354 | C31: Gépjárműadók
A32: 4.6 | B32: B355 | C32: Egyéb áruhasználati és szolgáltatási adók
A33: 4.7 | B33: B36 | C33: Egyéb közhatalmi bevételek
A34: 5. | B34: B4 | C34: Működési bevételek (5.1.+…+ 5.10.) | D34: =SUM(D35:D45) -> 500000 | E34: =SUM(E35:E45) -> 154655
A35: 5.1. | B35: B401 | C35: Készletértékesítés ellenértéke | E35: ='[1]1.2.sz.mell.'!D35+'[1]1.3.sz.mell.'!D35+'[1]1.4.sz.mell.'!D35 -> 0
A36: 5.2. | B36: B402 | C36: Szolgáltatások ellenértéke
A37: 5.3. | B37: B403 | C37: Közvetített szolgáltatások értéke
A38: 5.4. | B38: B404 | C38: Tulajdonosi bevételek | D38: 500000 | E38: 118110
A39: 5.5. | B39: B405 | C39: Ellátási díjak
A40: 5.6. | B40: B406 | C40: Kiszámlázott általános forgalmi adó | E40: 31890
A41: 5.7. | B41: B407 | C41: Általános forgalmi adó visszatérítése
A42: 5.8. | B42: B408 | C42: Kamatbevételek | E42: 4653
A43: 5.9. | B43: B409 | C43: Egyéb pénzügyi műveletek bevételei
A44: 5.10. | B44: B410 | C44: Biztosító által fizetett kártérítés
A45: 5.11. | B45: B411 | C45: Egyéb működési bevételek | E45: 2
A46: 6. | B46: B5 | C46: Felhalmozási bevételek (6.1.+…+6.5.) | D46: =SUM(D47:D51) -> 0 | E46: =SUM(E47:E51) -> 0
A47: 6.1. | B47: B51 | C47: Immateriális javak értékesítése | E47: ='[1]1.2.sz.mell.'!D47+'[1]1.3.sz.mell.'!D47+'[1]1.4.sz.mell.'!D47 -> 0
A48: 6.2. | B48: B52 | C48: Ingatlanok értékesítése | E48: ='[1]1.2.sz.mell.'!D48+'[1]1.3.sz.mell.'!D48+'[1]1.4.sz.mell.'!D48 -> 0
A49: 6.3. | B49: B53 | C49: Egyéb tárgyi eszközök értékesítése
A50: 6.4. | B50: B54 | C50: Részesedések értékesítése | E50: ='[1]1.2.sz.mell.'!D50+'[1]1.3.sz.mell.'!D50+'[1]1.4.sz.mell.'!D50 -> 0
A51: 6.5. | B51: B55 | C51: Részesedések megszűnéséhez kapcsolódó bevételek | E51: ='[1]1.2.sz.mell.'!D51+'[1]1.3.sz.mell.'!D51+'[1]1.4.sz.mell.'!D51 -> 0
A52: 7. | B52: B6 | C52: Működési célú átvett pénzeszközök (7.1. + … + 7.3.) | D52: =SUM(D53:D53) -> 0 | E52: =SUM(E53:E53) -> 0
A53: 7.1 | B53: B61 | C53: Működési célú garancia- és kezességvállalásból származó megtérülések ÁH kívülről | E53: ='[1]1.2.sz.mell.'!D53+'[1]1.3.sz.mell.'!D53+'[1]1.4.sz.mell.'!D53 -> 0
A54: 7.2 | B54: B62 | C54: Működési célú visszatérítendő támogatások, kölcsönök visszatérülése az Európai Uniótól
A55: 7.3 | B55: B63 | C55: Működési célú v.tér. tám., kölcsönök vtér.kormányoktól és más nemzetközi szervezetektől
A56: 7.4 | B56: B64 | C56: Működési célú visszatérítendő támogatások, kölcsönök visszatérülése ÁH kívülről | E56: ='[1]1.2.sz.mell.'!D56+'[1]1.3.sz.mell.'!D56+'[1]1.4.sz.mell.'!D56 -> 0
A57: 7.5 | B57: B65 | C57: Egyéb működési célú átvett pénzeszközök
A58: 7.6. | B58: B65 | C58: 7.5.-ból EU-s támogatás (közvetlen)
A59: 8. | B59: B7 | C59: Felhalmozási célú átvett pénzeszközök (8.1.+8.2.+8.3.) | D59: =SUM(D60:D65) -> 0 | E59: =SUM(E60:E65) -> 0
A60: 8.1 | B60: B71 | C60: Felhalmozási célú garancia- és kezességvállalásból származó megtérülések ÁH kívülről | E60: ='[1]1.2.sz.mell.'!D60+'[1]1.3.sz.mell.'!D60+'[1]1.4.sz.mell.'!D60 -> 0
A61: 8.2 | B61: B72 | C61: Felhalmozási célú visszatérítendő támogatások, kölcsönök visszatérülése az Európai Uniótól
A62: 8.3 | B62: B73 | C62: Felhalmozási célú v.tér.tám., kölcsönök v.tér. kormányoktól és más nemzetközi szervezetektől
A63: 8.4 | B63: B74 | C63: Felhalmozási célú visszatérítendő támogatások, kölcsönök visszatérülése ÁH kívülről | E63: ='[1]1.2.sz.mell.'!D63+'[1]1.3.sz.mell.'!D63+'[1]1.4.sz.mell.'!D63 -> 0
A64: 8.5 | B64: B75 | C64: Egyéb felhalmozási célú átvett pénzeszközök
A65: 8.6 | B65: B75 | C65: 8.5.-ból EU-s támogatás (közvetlen)
A66: 9. | C66: KÖLTSÉGVETÉSI BEVÉTELEK ÖSSZESEN: (1+…+8) | D66: =+D5+D12+D19+D26+D34+D46+D52+D59 -> 40500000 | E66: =+E5+E12+E19+E26+E34+E46+E52+E59 -> 40154655
A67: 10. | B67: B81 | C67: Hitel-, kölcsönfelvétel államháztartáson kívülről (10.1.+10.3.) | D67: =SUM(D68:D70) -> 0 | E67: =SUM(E68:E70) -> 0
A68: 10.1. | B68: B8111 | C68: Hosszú lejáratú hitelek, kölcsönök felvétele | E68: ='[1]1.2.sz.mell.'!D68+'[1]1.3.sz.mell.'!D68+'[1]1.4.sz.mell.'!D68 -> 0
A69: 10.2. | B69: B8112 | C69: Likviditási célú hitelek, kölcsönök felvétele pénzügyi vállalkozástól | E69: ='[1]1.2.sz.mell.'!D69+'[1]1.3.sz.mell.'!D69+'[1]1.4.sz.mell.'!D69 -> 0
A70: 10.3. | B70: B8113 | C70: Rövid lejáratú hitelek, kölcsönök felvétele | E70: ='[1]1.2.sz.mell.'!D70+'[1]1.3.sz.mell.'!D70+'[1]1.4.sz.mell.'!D70 -> 0
A71: 11. | B71: B812 | C71: Belföldi értékpapírok bevételei (11.1. +…+ 11.4.) | D71: =SUM(D72:D75) -> 0 | E71: =SUM(E72:E75) -> 0
A72: 11.1. | B72: B8121 | C72: Forgatási célú belföldi értékpapírok beváltása, értékesítése | E72: ='[1]1.2.sz.mell.'!D72+'[1]1.3.sz.mell.'!D72+'[1]1.4.sz.mell.'!D72 -> 0
A73: 11.2. | B73: B8122 | C73: Forgatási célú belföldi értékpapírok kibocsátása | E73: ='[1]1.2.sz.mell.'!D73+'[1]1.3.sz.mell.'!D73+'[1]1.4.sz.mell.'!D73 -> 0
A74: 11.3. | B74: B8123 | C74: Befektetési célú belföldi értékpapírok beváltása, értékesítése | E74: ='[1]1.2.sz.mell.'!D74+'[1]1.3.sz.mell.'!D74+'[1]1.4.sz.mell.'!D74 -> 0
A75: 11.4. | B75: B8124 | C75: Befektetési célú belföldi értékpapírok kibocsátása | E75: ='[1]1.2.sz.mell.'!D75+'[1]1.3.sz.mell.'!D75+'[1]1.4.sz.mell.'!D75 -> 0
A76: 12. | B76: B813 | C76: Maradvány igénybevétele (12.1. + 12.2.) | D76: =SUM(D77:D78) -> 884478 | E76: =SUM(E77:E78) -> 928747
A77: 12.1. | B77: B8131 | C77: Előző év költségvetési maradványának igénybevétele | D77: 884478 | E77: 928747
A78: 12.2. | B78: B8132 | C78: Előző év vállalkozási maradványának igénybevétele | E78: ='[1]1.2.sz.mell.'!D78+'[1]1.3.sz.mell.'!D78+'[1]1.4.sz.mell.'!D78 -> 0
A79: 13. | C79: Belföldi finanszírozás bevételei (13.1. + … + 13.4.) | D79: =SUM(D80:D83) -> 0 | E79: =SUM(E80:E83) -> 0
A80: 13.1 | B80: B814 | C80: Államháztartáson belüli megelőlegezések | E80: ='[1]1.2.sz.mell.'!D80+'[1]1.3.sz.mell.'!D80+'[1]1.4.sz.mell.'!D80 -> 0
A81: 13.2 | B81: B815 | C81: Államháztartáson belüli megelőlegezések törlesztése | E81: ='[1]1.2.sz.mell.'!D81+'[1]1.3.sz.mell.'!D82+'[1]1.4.sz.mell.'!D81 -> 0
A82: 13.3 | B82: B17 | C82: Betétek megszüntetése
A83: 13.4 | B83: B819 | C83: Tulajdonosi kölcsönök bevételei
A84: 14. | B84: B82 | C84: Külföldi finanszírozás bevételei (14.1.+…14.4.) | D84: =SUM(D85:D88) -> 0 | E84: =SUM(E85:E88) -> 0
A85: 14.1 | B85: B821 | C85: Forgatási célú külföldi értékpapírok beváltása, értékesítése | E85: ='[1]1.2.sz.mell.'!D85+'[1]1.3.sz.mell.'!D85+'[1]1.4.sz.mell.'!D85 -> 0
A86: 14.2 | B86: B822 | C86: Befektetési célú külföldi értékpapírok beváltása, értékesítése | E86: ='[1]1.2.sz.mell.'!D86+'[1]1.3.sz.mell.'!D86+'[1]1.4.sz.mell.'!D86 -> 0
A87: 14.3 | B87: B823 | C87: Külföldi értékpapírok kibocsátása | E87: ='[1]1.2.sz.mell.'!D87+'[1]1.3.sz.mell.'!D87+'[1]1.4.sz.mell.'!D87 -> 0
A88: 14.4 | B88: B824 | C88: Külföldi hitelek, kölcsönök felvétele
A89: 15. | B89: B83 | C89: Adóssághoz nem kapcsolódó származékos ügyletek bevételei
A90: 16. | C90: Váltóbevételek
A91: 17. | B91: B8 | C91: FINANSZÍROZÁSI BEVÉTELEK ÖSSZESEN: (10. + … +15.) | D91: =+D67+D71+D76+D79+D84+D89 -> 884478 | E91: =+E67+E71+E76+E79+E84+E89 -> 928747
A92: 18. | C92: KÖLTSÉGVETÉSI ÉS FINANSZÍROZÁSI BEVÉTELEK ÖSSZESEN: (9+16) | D92: =+D66+D91 -> 41384478 | E92: =+E66+E91 -> 41083402
A94: K I A D Á S O K
A95: 2. sz. táblázat | E95: Forintban
A96: Sor- szám | B96: Rovat azonosító | C96: Kiadási jogcímek | D96: Eredeti előirányzat | E96: Módosított előirányzat
A97: 1 | B97: 2 | C97: 2 | D97: 3 | E97: 4
A98: 1. | C98: Működési költségvetés kiadásai (1.1+…+1.5.) | D98: =SUM(D99:D103) -> 41384478 | E98: =SUM(E99:E103) -> 41083402
A99: 1.1. | B99: K1 | C99: Személyi juttatások | D99: 17708500 | E99: 17911394
A100: 1.2. | B100: K2 | C100: Munkaadókat terhelő járulékok és szociális hozzájárulási adó | D100: 1126662 | E100: 724572
A101: 1.3. | B101: K3 | C101: Dologi kiadások | D101: 15149316 | E101: 14157452
...

Sheet 2.melléklet
B1: I. Működési célú bevételek és kiadások mérlege
G2: Forintban !
A3: Sor- szám | B3: Bevételek | E3: Kiadások
B4: Megnevezés | C4: Eredeti előirányzat | D4: Módosított előirányzat | E4: Megnevezés | F4: Eredeti előirányzat | G4: Módosított előirányzat
A5: 1 | B5: 2 | C5: 3 | D5: 4 | E5: 5 | F5: 6 | G5: 7
A6: 1. | B6: Önkormányzatok működési támogatásai | E6: Személyi juttatások | F6: ='1.melléklet'!D99 -> 17708500 | G6: ='1.melléklet'!E99 -> 17911394
A7: 2. | B7: Működési célú támogatások államháztartáson belülről | C7: ='1.melléklet'!D17 -> 40000000 | D7: ='1.melléklet'!E17 -> 40000000 | E7: Munkaadókat terhelő járulékok és szociális hozzájárulási adó | F7: ='1.melléklet'!D100 -> 1126662 | G7: ='1.melléklet'!E100 -> 724572
A8: 3. | B8: Közhatalmi bevételek | E8: Dologi kiadások | F8: ='1.melléklet'!D101 -> 15149316 | G8: ='1.melléklet'!E101 -> 14157452
A9: 4. | B9: Működési bevételek | C9: ='1.melléklet'!D34 -> 500000 | D9: ='1.melléklet'!E34 -> 154655 | E9: Ellátottak pénzbeli juttatásai
A10: 5. | B10: Működési célú átvett pénzeszközök | C10: ='[1]1.1.sz.mell.'!D52 -> 0 | E10: Egyéb működési célú kiadások | F10: ='1.melléklet'!D103 -> 7400000 | G10: ='1.melléklet'!E103 -> 8289984
A11: 6. | B11: 4.-ből EU-s támogatás | E11: Általános tartalék
A12: 13. | B12: Költségvetési bevételek összesen (1.+2.+4.+5.+7.+…+12.) | C12: =SUM(C6:C7,C8:C10) -> 40500000 | D12: =SUM(D6:D7,D8:D10) -> 40154655 | E12: Költségvetési kiadások összesen (1.+...+12.) | F12: =SUM(F6:F11) -> 41384478 | G12: =SUM(G6:G11) -> 41083402
A13: 14. | B13: Hiány belső finanszírozásának bevételei (15.+…+18. ) | C13: =+C14+C15+C16+C17 -> 884478 | D13: =+D14+D15+D16+D17 -> 928747 | E13: Értékpapír vásárlása, visszavásárlása
A14: 15. | B14: Költségvetési maradvány igénybevétele | C14: ='1.melléklet'!D77 -> 884478 | D14: ='1.melléklet'!E77 -> 928747 | E14: Likviditási célú hitelek törlesztése
A15: 16. | B15: Vállalkozási maradvány igénybevétele | E15: Rövid lejáratú hitelek törlesztése
A16: 17. | B16: Betét visszavonásából származó bevétel | E16: Hosszú lejáratú hitelek törlesztése
A17: 18. | B17: Egyéb belső finanszírozási bevételek | E17: Kölcsön törlesztése
A18: 19. | B18: Hiány külső finanszírozásának bevételei (20.+…+21.) | C18: =+C19+C20 -> 0 | D18: =+D19+D20 -> 0 | E18: Forgatási célú belföldi, külföldi értékpapírok vásárlása
A19: 20. | B19: Likviditási célú hitelek, kölcsönök felvétele | E19: Betét elhelyezése
A20: 21. | B20: Értékpapírok bevételei | E20: Államháztartáson belüli megelőlegezések visszafizetése
A21: 22. | B21: Működési célú finanszírozási bevételek összesen (14.+19.) | C21: =+C13+C18 -> 884478 | D21: =+D13+D18 -> 928747 | E21: Működési célú finanszírozási kiadások összesen (14.+...+21.) | G21: =SUM(G13:G20) -> 0
A22: 23. | B22: BEVÉTEL ÖSSZESEN (13.+22.) | C22: =+C12+C21 -> 41384478 | D22: =+D12+D21 -> 41083402 | E22: KIADÁSOK ÖSSZESEN (13.+22.) | F22: =+F12+F21 -> 41384478 | G22: =+G12+G21 -> 41083402
B23: II. Felhalmozási célú bevételek és kiadások mérlege
G24: Forintban !
A25: Sor- szám | B25: Bevételek | E25: Kiadások
B26: Megnevezés | C26: Eredeti előirányzat | D26: Módosított előirányzat | E26: Megnevezés | F26: Eredeti előirányzat | G26: Módosított előirányzat
A27: 1 | B27: 2 | C27: 3 | D27: 4 | E27: 5 | F27: 6 | G27: 7
A28: 1. | B28: Felhalmozási célú támogatások államháztartáson belülről | E28: Beruházások | G28: ='1.melléklet'!E109 -> 0
A29: 2. | B29: 1.-ből EU-s támogatás | E29: 1.-ből EU-s forrásból megvalósuló beruházás
A30: 3. | B30: Felhalmozási bevételek | E30: Felújítások
A31: 4. | B31: Felhalmozási célú átvett pénzeszközök átvétele | C31: ='[1]1.1.sz.mell.'!D64 -> 0 | E31: 3.-ból EU-s forrásból megvalósuló felújítás
A32: 5. | E32: Egyéb felhalmozási kiadások
A33: 6. | E33: Pályázati tartalék
A34: 11. | E34: Tartalékok
A35: 12. | B35: Költségvetési bevételek összesen: (1.+3.+4.+6.+…+11.) | C35: =+C28+C30+C31+C33+C34 -> 0 | D35: =+D28+D30+D31+D33+D34 -> 0 | E35: Költségvetési kiadások összesen: (1.+3.+5.+...+11.) | F35: =+F28+F30+F32+F33+F34 -> 0 | G35: =+G28+G30+G32+G33+G34 -> 0
A36: 13. | B36: Hiány belső finanszírozás bevételei ( 14+…+18) | C36: =+C37+C38+C39+C40+C41 -> 0 | D36: =+D37+D38+D39+D40+D41 -> 0 | E36: Értékpapír vásárlása, visszavásárlása
A37: 14. | B37: Költségvetési maradvány igénybevétele | E37: Hitelek törlesztése
A38: 15. | B38: Vállalkozási maradvány igénybevétele | E38: Rövid lejáratú hitelek törlesztése
A39: 16. | B39: Betét visszavonásából származó bevétel | E39: Hosszú lejáratú hitelek törlesztése | G39: ='[1]1.1.sz.mell.'!D116 -> 0
A40: 17. | B40: Értékpapír értékesítése | E40: Kölcsön törlesztése
A41: 18. | B41: Egyéb belső finanszírozási bevételek | E41: Befektetési célú belföldi, külföldi értékpapírok vásárlása
A42: 19. | B42: Hiány külső finanszírozásának bevételei (20+…+24 ) | C42: =+C43+C44+C45+C46+C47 -> 0 | D42: =+D43+D44+D45+D46+D47 -> 0 | E42: Betét elhelyezése
A43: 20. | B43: Hosszú lejáratú hitelek, kölcsönök felvétele | C43: ='[1]1.1.sz.mell.'!D68 -> 0 | E43: Pénzügyi lízing kiadásai
A44: 21. | B44: Likviditási célú hitelek, kölcsönök felvétele
A45: 22. | B45: Rövid lejáratú hitelek, kölcsönök felvétele
A46: 23. | B46: Értékpapírok kibocsátása
A47: 24. | B47: Egyéb külső finanszírozási bevételek
A48: 25. | B48: Felhalmozási célú finanszírozási bevételek összesen (13.+19.) | C48: =+C36+C42 -> 0 | D48: =+D36+D42 -> 0 | E48: Felhalmozási célú finanszírozási kiadások összesen (13.+...+24.) | G48: =SUM(G36:G47) -> 0
A49: 26. | B49: BEVÉTEL ÖSSZESEN (12+25) | C49: =+C35+C48 -> 0 | D49: =+D35+D48 -> 0 | E49: KIADÁSOK ÖSSZESEN (12+25) | F49: =+F35+F48 -> 0 | G49: =+G35+G48 -> 0
A50: 29. | B50: BEVÉTEL MINDÖSSZESEN | C50: =SUM(C49,C22) -> 41384478 | D50: =SUM(D49,D22) -> 41083402 | E50: KIADÁSOK MINDÖSSZESEN | F50: =SUM(F49,F22) -> 41384478 | G50: =SUM(G49,G22) -> 41083402

Sheet 3. melléklet
A1: Maradványkimutatás Társadalmi Ellenőrző Tájékoztató Társulás
C2: Forintban!
A3: Sorszám | B3: Megnevezés | C3: Összeg
A4: 1 | B4: 2 | C4: 3
A5: 1. | B5: Alaptevékenység költségvetési bevételei | C5: 35426842
A6: 2. | B6: Alaptevékenység költségvetési kiadásai | C6: 35155295
A7: 3. | B7: Alaptevékenység költségvetési egyenlege | C7: =C5-C6 -> 271547
A8: 4. | B8: Alaptevékenység finanszírozási bevételei | C8: 328909
A9: 5. | B9: Alaptevékenység finanszírozási kiadásai
A10: 6. | B10: Alaptevékenység finanszírozási egyenlege | C10: =C8-C9 -> 328909
A11: 7. | B11: Alaptevékenység maradványa | C11: =C7+C10 -> 600456
A12: 8. | B12: Vállalkozási tevékenység költségvetési bevételei
A13: 9. | B13: Vállalkozási tevékenység költségvetési kiadásai
A14: 10. | B14: Vállalkozási tevékenység költségvetési egyenlege
A15: 11. | B15: Vállalkozási tevékenység finanszírozási bevételei
A16: 12. | B16: Vállalkozási tevékenység finanszírozási kiadásai
A17: 13. | B17: Vállalkozási tevékenység finanszírozási egyenlege
A18: 14. | B18: Vállalkozási tevékenység maradványa
A19: 15. | B19: Összes maradvány | C19: =C11 -> 600456
A20: 16. | B20: Alaptevékenység kötelezettségvállalással terhelt maradványa
A21: 17. | B21: Alaptevékenység szabad maradványa | C21: =C19-C20 -> 600456
A22: 18. | B22: Vállalkozási tevékenységet terhelő befizetési kötelezettség
A23: 19. | B23: Vállalkozási tevékenység felhasználható maradványa
