Workbook

Sheet 1.melléklet
A1: B E V É T E L E K
E2: Forintban
A3: Sor- szám | B3: Rovat azonosító | C3: Bevételi jogcím | D3: Eredeti előirányzat | E3: Módosított előirányzat
A4: 1 | B4: 2 | C4: 2 | D4: 3 | E4: 4
A5: 1. | B5: B11 | C5: Önkormányzat működési támogatásai (1.1.+…+.1.6.) | D5: =+D6+D7+D8+D9+D10+D11 -> 0 | E5: =+E6+E7+E8+E9+E10+E11 -> 0
A6: 1.1. | B6: B111 | C6: Helyi önkormányzatok működésének általános támogatása
A7: 1.2. | B7: B112 | C7: Önkormányzatok egyes köznevelési feladatainak támogatása
A8: 1.3. | B8: B113 | C8: Önkormányzatok szociális és gyermekjóléti, étkeztetési feladatainak támogatása
A9: 1.4. | B9: B114 | C9: Önkormányzatok kulturális feladatainak támogatása
A10: 1.5. | B10: B115 | C10: Működési célú kvi támogatások és kiegészítő támogatások
A11: 1.6. | B11: B116 | C11: Elszámolásból származó bevételek | E11: ='[1]1.2.sz.mell.'!D11+'[1]1.3.sz.mell.'!D11+'[1]1.4.sz.mell.'!D11 -> 0
A12: 2. | C12: Működési célú támogatások államháztartáson belülről (2.1.+…+.2.5.) | D12: =+D13+D14+D15+D16+D17 -> 40000000 | E12: =+E13+E14+E15+E16+E17 -> 40000000
A13: 2.1. | B13: B12 | C13: Elvonások és befizetések bevételei | E13: ='[1]1.2.sz.mell.'!D13+'[1]1.3.sz.mell.'!D13+'[1]1.4.sz.mell.'!D13 -> 0
A14: 2.2. | B14: B13 | C14: Működési célú garancia- és kezességvállalásból megtérülések | E14: ='[1]1.2.sz.mell.'!D14+'[1]1.3.sz.mell.'!D14+'[1]1.4.sz.mell.'!D14 -> 0
A15: 2.3. | B15: B14 | C15: Működési célú visszatérítendő támogatások, kölcsönök visszatérülése | E15: ='[1]1.2.sz.mell.'!D15+'[1]1.3.sz.mell.'!D15+'[1]1.4.sz.mell.'!D15 -> 0
A16: 2.4. | B16: B15 | C16: Működési célú visszatérítendő támogatások, kölcsönök igénybevétele | E16: ='[1]1.2.sz.mell.'!D16+'[1]1.3.sz.mell.'!D16+'[1]1.4.sz.mell.'!D16 -> 0
A17: 2.5. | B17: B16 | C17: Egyéb működési célú támogatások bevételei | D17: 40000000 | E17: 40000000
A18: 2.6. | B18: B16 | C18: 2.5.-ből EU-s támogatás
A19: 3. | B19: B2 | C19: Felhalmozási célú támogatások államháztartáson belülről (3.1.+…+3.5.) | D19: =+D20+D21+D22+D23+D24 -> 0 | E19: =+E20+E21+E22+E23+E24 -> 0
A20: 3.1. | B20: B21 | C20: Felhalmozási célú önkormányzati támogatások | E20: ='[1]1.2.sz.mell.'!D20+'[1]1.3.sz.mell.'!D20+'[1]1.4.sz.mell.'!D20 -> 0
A21: 3.2. | B21: B22 | C21: Felhalmozási célú garancia- és kezességvállalásból megtérülések | E21: ='[1]1.2.sz.mell.'!D21+'[1]1.3.sz.mell.'!D21+'[1]1.4.sz.mell.'!D21 -> 0
A22: 3.3. | B22: B23 | C22: Felhalmozási célú visszatérítendő támogatások, kölcsönök visszatérülése | E22: ='[1]1.2.sz.mell.'!D22+'[1]1.3.sz.mell.'!D22+'[1]1.4.sz.mell.'!D22 -> 0
A23: 3.4. | B23: B24 | C23: Felhalmozási célú visszatérítendő támogatások, kölcsönök igénybevétele | E23: ='[1]1.2.sz.mell.'!D23+'[1]1.3.sz.mell.'!D23+'[1]1.4.sz.mell.'!D23 -> 0
A24: 3.5. | B24: B25 | C24: Egyéb felhalmozási célú támogatások bevételei
A25: 3.6. | B25: B25 | C25: 3.5.-ből EU-s támogatás
A26: 4. | B26: B3 | C26: Közhatalmi bevételek (4.1.+4.2.+4.3.+4.4.) | D26: =SUM(D27:D33) -> 0 | E26: =SUM(E27:E33) -> 0
A27: 4.1 | B27: B34 | C27: Vagyoni tipusú adók
A28: 4.2 | B28: B31 | C28: Jövedelemadók
A29: 4.3 | B29: B351 | C29: Értékesítési és forgalmi adók
A30: 4.4 | B30: B352 | C30: Fogyasztási adók
A31: 4.5 | B31: B354 | C31: Gépjárműadók
A32: 4.6 | B32: B355 | C32: Egyéb áruhasználati és szolgáltatási adók
A33: 4.7 | B33: B36 | C33: Egyéb közhatalmi bevételek
A34: 5. | B34: B4 | C34: Működési bevételek (5.1.+…+ 5.10.) | D34: =SUM(D35:D45) -> 500000 | E34: =SUM(E35:E45) -> 154655
A35: 5.1. | B35: B401 | C35: Készletértékesítés ellenértéke | E35: ='[1]1.2.sz.mell.'!D35+'[1]1.3.sz.mell.'!D35+'[1]1.4.sz.mell.'!D35 -> 0
A36: 5.2. | B36: B402 | C36: Szolgáltatások ellenértéke
A37: 5.3. | B37: B403 | C37: Közvetített szolgáltatások értéke
A38: 5.4. | B38: B404 | C38: Tulajdonosi bevételek | D38: 500000 | E38: 118110
A39: 5.5. | B39: B405 | C39: Ellátási díjak
A40: 5.6. | B40: B406 | C40: Kiszámlázott általános forgalmi adó | E40: 31890
...

Sheet 2.melléklet
B1: I. Működési célú bevételek és kiadások mérlege
G2: Forintban !
A3: Sor- szám | B3: Bevételek | E3: Kiadások
B4: Megnevezés | C4: Eredeti előirányzat | D4: Módosított előirányzat | E4: Megnevezés | F4: Eredeti előirányzat | G4: Módosított előirányzat
A5: 1 | B5: 2 | C5: 3 | D5: 4 | E5: 5 | F5: 6 | G5: 7
A6: 1. | B6: Önkormányzatok működési támogatásai | E6: Személyi juttatások | F6: ='1.melléklet'!D99 -> 17708500 | G6: ='1.melléklet'!E99 -> 17911394
A7: 2. | B7: Működési célú támogatások államháztartáson belülről | C7: ='1.melléklet'!D17 -> 40000000 | D7: ='1.melléklet'!E17 -> 40000000 | E7: Munkaadókat terhelő járulékok és szociális hozzájárulási adó | F7: ='1.melléklet'!D100 -> 1126662 | G7: ='1.melléklet'!E100 -> 724572
A8: 3. | B8: Közhatalmi bevételek | E8: Dologi kiadások | F8: ='1.melléklet'!D101 -> 15149316 | G8: ='1.melléklet'!E101 -> 14157452
A9: 4. | B9: Működési bevételek | C9: ='1.melléklet'!D34 -> 500000 | D9: ='1.melléklet'!E34 -> 154655 | E9: Ellátottak pénzbeli juttatásai
A10: 5. | B10: Működési célú átvett pénzeszközök | C10: ='[1]1.1.sz.mell.'!D52 -> 0 | E10: Egyéb működési célú kiadások | F10: ='1.melléklet'!D103 -> 7400000 | G10: ='1.melléklet'!E103 -> 8289984
A11: 6. | B11: 4.-ből EU-s támogatás | E11: Általános tartalék
A12: 13. | B12: Költségvetési bevételek összesen (1.+2.+4.+5.+7.+…+12.) | C12: =SUM(C6:C7,C8:C10) -> 40500000 | D12: =SUM(D6:D7,D8:D10) -> 40154655 | E12: Költségvetési kiadások összesen (1.+...+12.) | F12: =SUM(F6:F11) -> 41384478 | G12: =SUM(G6:G11) -> 41083402
A13: 14. | B13: Hiány belső finanszírozásának bevételei (15.+…+18. ) | C13: =+C14+C15+C16+C17 -> 884478 | D13: =+D14+D15+D16+D17 -> 928747 | E13: Értékpapír vásárlása, visszavásárlása
A14: 15. | B14: Költségvetési maradvány igénybevétele | C14: ='1.melléklet'!D77 -> 884478 | D14: ='1.melléklet'!E77 -> 928747 | E14: Likviditási célú hitelek törlesztése
A15: 16. | B15: Vállalkozási maradvány igénybevétele | E15: Rövid lejáratú hitelek törlesztése
A16: 17. | B16: Betét visszavonásából származó bevétel | E16: Hosszú lejáratú hitelek törlesztése
A17: 18. | B17: Egyéb belső finanszírozási bevételek | E17: Kölcsön törlesztése
A18: 19. | B18: Hiány külső finanszírozásának bevételei (20.+…+21.) | C18: =+C19+C20 -> 0 | D18: =+D19+D20 -> 0 | E18: Forgatási célú belföldi, külföldi értékpapírok vásárlása
A19: 20. | B19: Likviditási célú hitelek, kölcsönök felvétele | E19: Betét elhelyezése
A20: 21. | B20: Értékpapírok bevételei | E20: Államháztartáson belüli megelőlegezések visszafizetése
A21: 22. | B21: Működési célú finanszírozási bevételek összesen (14.+19.) | C21: =+C13+C18 -> 884478 | D21: =+D13+D18 -> 928747 | E21: Működési célú finanszírozási kiadások összesen (14.+...+21.) | G21: =SUM(G13:G20) -> 0
A22: 23. | B22: BEVÉTEL ÖSSZESEN (13.+22.) | C22: =+C12+C21 -> 41384478 | D22: =+D12+D21 -> 41083402 | E22: KIADÁSOK ÖSSZESEN (13.+22.) | F22: =+F12+F21 -> 41384478 | G22: =+G12+G21 -> 41083402
B23: II. Felhalmozási célú bevételek és kiadások mérlege
G24: Forintban !
A25: Sor- szám | B25: Bevételek | E25: Kiadások
B26: Megnevezés | C26: Eredeti előirányzat | D26: Módosított előirányzat | E26: Megnevezés | F26: Eredeti előirányzat | G26: Módosított előirányzat
A27: 1 | B27: 2 | C27: 3 | D27: 4 | E27: 5 | F27: 6 | G27: 7
A28: 1. | B28: Felhalmozási célú támogatások államháztartáson belülről | E28: Beruházások | G28: ='1.melléklet'!E109 -> 0
A29: 2. | B29: 1.-ből EU-s támogatás | E29: 1.-ből EU-s forrásból megvalósuló beruházás
A30: 3. | B30: Felhalmozási bevételek | E30: Felújítások
A31: 4. | B31: Felhalmozási célú átvett pénzeszközök átvétele | C31: ='[1]1.1.sz.mell.'!D64 -> 0 | E31: 3.-ból EU-s forrásból megvalósuló felújítás
A32: 5. | E32: Egyéb felhalmozási kiadások
A33: 6. | E33: Pályázati tartalék
A34: 11. | E34: Tartalékok
A35: 12. | B35: Költségvetési bevételek összesen: (1.+3.+4.+6.+…+11.) | C35: =+C28+C30+C31+C33+C34 -> 0 | D35: =+D28+D30+D31+D33+D34 -> 0 | E35: Költségvetési kiadások összesen: (1.+3.+5.+...+11.) | F35: =+F28+F30+F32+F33+F34 -> 0 | G35: =+G28+G30+G32+G33+G34 -> 0
A36: 13. | B36: Hiány belső finanszírozás bevételei ( 14+…+18) | C36: =+C37+C38+C39+C40+C41 -> 0 | D36: =+D37+D38+D39+D40+D41 -> 0 | E36: Értékpapír vásárlása, visszavásárlása
A37: 14. | B37: Költségvetési maradvány igénybevétele | E37: Hitelek törlesztése
A38: 15. | B38: Vállalkozási maradvány igénybevétele | E38: Rövid lejáratú hitelek törlesztése
A39: 16. | B39: Betét visszavonásából származó bevétel | E39: Hosszú lejáratú hitelek törlesztése | G39: ='[1]1.1.sz.mell.'!D116 -> 0
A40: 17. | B40: Értékpapír értékesítése | E40: Kölcsön törlesztése
...

Sheet 3. melléklet
A1: Maradványkimutatás Társadalmi Ellenőrző Tájékoztató Társulás
C2: Forintban!
A3: Sorszám | B3: Megnevezés | C3: Összeg
A4: 1 | B4: 2 | C4: 3
A5: 1. | B5: Alaptevékenység költségvetési bevételei | C5: 35426842
A6: 2. | B6: Alaptevékenység költségvetési kiadásai | C6: 35155295
A7: 3. | B7: Alaptevékenység költségvetési egyenlege | C7: =C5-C6 -> 271547
A8: 4. | B8: Alaptevékenység finanszírozási bevételei | C8: 328909
A9: 5. | B9: Alaptevékenység finanszírozási kiadásai
A10: 6. | B10: Alaptevékenység finanszírozási egyenlege | C10: =C8-C9 -> 328909
A11: 7. | B11: Alaptevékenység maradványa | C11: =C7+C10 -> 600456
A12: 8. | B12: Vállalkozási tevékenység költségvetési bevételei
A13: 9. | B13: Vállalkozási tevékenység költségvetési kiadásai
A14: 10. | B14: Vállalkozási tevékenység költségvetési egyenlege
A15: 11. | B15: Vállalkozási tevékenység finanszírozási bevételei
A16: 12. | B16: Vállalkozási tevékenység finanszírozási kiadásai
A17: 13. | B17: Vállalkozási tevékenység finanszírozási egyenlege
A18: 14. | B18: Vállalkozási tevékenység maradványa
A19: 15. | B19: Összes maradvány | C19: =C11 -> 600456
A20: 16. | B20: Alaptevékenység kötelezettségvállalással terhelt maradványa
A21: 17. | B21: Alaptevékenység szabad maradványa | C21: =C19-C20 -> 600456
A22: 18. | B22: Vállalkozási tevékenységet terhelő befizetési kötelezettség
A23: 19. | B23: Vállalkozási tevékenység felhasználható maradványa
